BEGIN:VCALENDAR
VERSION:2.0
PRODID:-//Villa Lessing// Events //DE
CALSCALE:GREGORIAN
BEGIN:VEVENT
TRANSP:OPAQUE
DTEND;TZID=Europe/Berlin:20231005T200000
UID:10233
DTSTAMP:20260421T104238Z
LOCATION:
DESCRIPTION:
ORGANIZER:Villa Lessing
URL;VALUE=URI:https://www.villa-lessing.de/veranstaltungen/veranstaltungskalender/energiekrise/
SUMMARY:Die große Energiekrise
CREATED:20230828T114305Z
DTSTART;TZID=Europe/Berlin:20231005T190000
END:VEVENT
END:VCALENDAR