BEGIN:VCALENDAR
VERSION:2.0
PRODID:-//Villa Lessing// Events //DE
CALSCALE:GREGORIAN
BEGIN:VEVENT
TRANSP:OPAQUE
DTEND;TZID=Europe/Berlin:20251109T120000
UID:13344
DTSTAMP:20260423T143239Z
LOCATION:
DESCRIPTION:
ORGANIZER:Villa Lessing
URL;VALUE=URI:https://www.villa-lessing.de/veranstaltungen/veranstaltungskalender/rios-magische-reisen/
SUMMARY:Rios magische Reisen
CREATED:20251010T083118Z
DTSTART;TZID=Europe/Berlin:20251109T110000
END:VEVENT
END:VCALENDAR