BEGIN:VCALENDAR
VERSION:2.0
PRODID:-//Villa Lessing// Events //DE
CALSCALE:GREGORIAN
BEGIN:VEVENT
TRANSP:OPAQUE
DTEND;TZID=Europe/Berlin:20260528T200000
UID:14045
DTSTAMP:20260423T143853Z
LOCATION:Villa Lessing
DESCRIPTION:
ORGANIZER:Villa Lessing
URL;VALUE=URI:https://www.villa-lessing.de/veranstaltungen/veranstaltungskalender/behind-the-news/
SUMMARY:Behind the news
CREATED:20260416T085334Z
DTSTART;TZID=Europe/Berlin:20260528T190000
END:VEVENT
END:VCALENDAR