BEGIN:VCALENDAR
VERSION:2.0
PRODID:-//Villa Lessing// Events //DE
CALSCALE:GREGORIAN
BEGIN:VEVENT
TRANSP:OPAQUE
DTEND;TZID=Europe/Berlin:20210617T200000
UID:6021
DTSTAMP:20260423T091351Z
LOCATION:Villa Lessing\, Saarbrücken
DESCRIPTION:
ORGANIZER:Villa Lessing
URL;VALUE=URI:https://www.villa-lessing.de/veranstaltungen/veranstaltungskalender/raus-aus-der-kommunalen-schuldenfalle/
SUMMARY:Raus aus der Kommunalen Schuldenfalle
CREATED:20211019T160312Z
DTSTART;TZID=Europe/Berlin:20210617T190000
END:VEVENT
END:VCALENDAR