BEGIN:VCALENDAR
VERSION:2.0
PRODID:-//Villa Lessing// Events //DE
CALSCALE:GREGORIAN
BEGIN:VEVENT
TRANSP:OPAQUE
DTEND;TZID=Europe/Berlin:20220321T200000
UID:6287
DTSTAMP:20260422T091035Z
LOCATION:Villa Lessing\, Saarbrücken
DESCRIPTION:
ORGANIZER:Villa Lessing
URL;VALUE=URI:https://www.villa-lessing.de/veranstaltungen/veranstaltungskalender/21-03-22/
SUMMARY:Werner Maihofer
CREATED:20220307T081926Z
DTSTART;TZID=Europe/Berlin:20220321T190000
END:VEVENT
END:VCALENDAR