BEGIN:VCALENDAR
VERSION:2.0
PRODID:-//Villa Lessing// Events //DE
CALSCALE:GREGORIAN
BEGIN:VEVENT
TRANSP:OPAQUE
DTEND;TZID=Europe/Berlin:20210916T200000
UID:6499
DTSTAMP:20260421T082542Z
LOCATION:Villa Lessing\, Saarbrücken
DESCRIPTION:
ORGANIZER:Villa Lessing
URL;VALUE=URI:https://www.villa-lessing.de/veranstaltungen/veranstaltungskalender/ich-bin-nicht-gruen/
SUMMARY:Ich bin nicht grün
CREATED:20220307T155939Z
DTSTART;TZID=Europe/Berlin:20210916T190000
END:VEVENT
END:VCALENDAR